BEGIN:VCALENDAR
VERSION:2.0
PRODID:-//IHGMA Bali - ECPv6.15.13//NONSGML v1.0//EN
CALSCALE:GREGORIAN
METHOD:PUBLISH
X-WR-CALNAME:IHGMA Bali
X-ORIGINAL-URL:https://ihgmabali.id
X-WR-CALDESC:Events for IHGMA Bali
REFRESH-INTERVAL;VALUE=DURATION:PT1H
X-Robots-Tag:noindex
X-PUBLISHED-TTL:PT1H
BEGIN:VTIMEZONE
TZID:Asia/Shanghai
BEGIN:STANDARD
TZOFFSETFROM:+0800
TZOFFSETTO:+0800
TZNAME:CST
DTSTART:20230101T000000
END:STANDARD
END:VTIMEZONE
BEGIN:VEVENT
DTSTART;TZID=Asia/Shanghai:20250314T170000
DTEND;TZID=Asia/Shanghai:20250314T210000
DTSTAMP:20260422T101000
CREATED:20250312T083957Z
LAST-MODIFIED:20250317T085150Z
UID:100002830-1741971600-1741986000@ihgmabali.id
SUMMARY:Buka Puasa Bersama IHGMA DPD Bali | 14 Maret 2025
DESCRIPTION:« All Events \nCertified Hotel Administrator\nApril 8\, 2025\n–\nApril 12\, 2025\n\nREGISTER NOW\n\nDays Hours Minutes Seconds\nEvent already \nWorkshop & Examination\nThe World Most Prestigious Certification Available to General Manager Hotel and Hospitality Corporate Executive \n\n\nDream of Aventus Hotel – Kuta\, Bali\n\n\n\n\nAdd to calendar \n \n\nGoogle Calendar\niCalendar\nOutlook 365\nOutlook Live\n\nDays Hours Minutes Seconds\nEvent already\n\n  \nAgenda\n\nPARTICIPANT\n\n\nAPRIL 8th – 12th\, 2025\n \nMain Topic:\n\nFinancial\nSales & Marketing\nLeadership\nHuman Resources\nRoom Division\nFood & Beverage\nRevenue Maximization\n\n*Renew and Updated Content \n\nAPRIL 8th – 12th\, 2025\n \nMain Topic:\n\nFinancial\nSales & Marketing\nLeadership\nHuman Resources\nRoom Division\nFood & Beverage\nRevenue Maximization\n\n*Renew and Updated Content \nMain Topic:\n\nFinancial\nSales & Marketing\nLeadership\nHuman Resources\nRoom Division\nFood & Beverage\nRevenue Maximization\n\n*Renew and Updated Content \nSpeakers\nTO BE ANNOUNCE \nSpeaker 1 is a visionary leader at Heineken\, where he promotes a culture of innovation and collaboration as a Sales Director in The Netherlands. \n\nSpeaker 1\nDesignation \nSpeaker 2 is a visionary leader at Heineken\, where he promotes a culture of innovation and collaboration as a Sales Director in The Netherlands. \n\nSpeaker 2\nDesignation \nOrganizing Committee\n\nList Item #1\nList Item #2\nList Item #2\n\nSupporting Partners\n\n\n\n\n \nContact Person\nMrs. Arie Santoso\nCall \n\n\n\nIHGMA End Year Gathering 2024 \n\nRegional IHGMA Bali Meeting 2025
URL:https://ihgmabali.id/event/buka-puasa-bersama-ihgma-dpd-bali-2025-03-14/
LOCATION:City of Aventus Hotel\, Jl. Teuku Umar no. 74\, Dauh Puri Kauh Denpasar Barat\, Denpasar\, Bali\, 80113\, Indonesia
CATEGORIES:IHGMA Bali Internal Event
ORGANIZER;CN="IHGMA DPD BALI":MAILTO:info@ihgmabali.id
END:VEVENT
BEGIN:VEVENT
DTSTART;TZID=Asia/Shanghai:20250109T060000
DTEND;TZID=Asia/Shanghai:20250109T120000
DTSTAMP:20260422T101000
CREATED:20250313T065537Z
LAST-MODIFIED:20250317T050555Z
UID:100002846-1736402400-1736424000@ihgmabali.id
SUMMARY:IHGMA Touring Club - Charity Ride January 2025 | 9 Januari 2025
DESCRIPTION:« All Events \nCertified Hotel Administrator\nApril 8\, 2025\n–\nApril 12\, 2025\n\nREGISTER NOW\n\nDays Hours Minutes Seconds\nEvent already \nWorkshop & Examination\nThe World Most Prestigious Certification Available to General Manager Hotel and Hospitality Corporate Executive \n\n\nDream of Aventus Hotel – Kuta\, Bali\n\n\n\n\nAdd to calendar \n  \n\nGoogle Calendar\niCalendar\nOutlook 365\nOutlook Live\n\nDays Hours Minutes Seconds\nEvent already\n\n  \nAgenda\n\nPARTICIPANT\n\n\nAPRIL 8th – 12th\, 2025\n \nMain Topic:\n\nFinancial\nSales & Marketing\nLeadership\nHuman Resources\nRoom Division\nFood & Beverage\nRevenue Maximization\n\n*Renew and Updated Content \n\nAPRIL 8th – 12th\, 2025\n \nMain Topic:\n\nFinancial\nSales & Marketing\nLeadership\nHuman Resources\nRoom Division\nFood & Beverage\nRevenue Maximization\n\n*Renew and Updated Content \nMain Topic:\n\nFinancial\nSales & Marketing\nLeadership\nHuman Resources\nRoom Division\nFood & Beverage\nRevenue Maximization\n\n*Renew and Updated Content \nSpeakers\nTO BE ANNOUNCE \nSpeaker 1 is a visionary leader at Heineken\, where he promotes a culture of innovation and collaboration as a Sales Director in The Netherlands. \n\nSpeaker 1\nDesignation \nSpeaker 2 is a visionary leader at Heineken\, where he promotes a culture of innovation and collaboration as a Sales Director in The Netherlands. \n\nSpeaker 2\nDesignation \nOrganizing Committee\n\nList Item #1\nList Item #2\nList Item #2\n\nSupporting Partners\n\n\n\n\n \nContact Person\nMrs. Arie Santoso\nCall \n\n\n\nIHGMA End Year Gathering 2024 \n\nRegional IHGMA Bali Meeting 2025
URL:https://ihgmabali.id/event/ihgma-touring-club-charity-ride-january-2025/
CATEGORIES:IHGMA Bali Internal Event
ORGANIZER;CN="IHGMA DPD BALI":MAILTO:info@ihgmabali.id
END:VEVENT
BEGIN:VEVENT
DTSTART;TZID=Asia/Shanghai:20241220T163000
DTEND;TZID=Asia/Shanghai:20241220T230000
DTSTAMP:20260422T101000
CREATED:20241217T085343Z
LAST-MODIFIED:20241219T100923Z
UID:100001663-1734712200-1734735600@ihgmabali.id
SUMMARY:IHGMA End Year Gathering 2024
DESCRIPTION:“A Milestone of DPD IHGMA on Year-End Gathering 2024.” \nAcara ini menjadi momen penting sekaligus istimewa bagi kita semua\, karena tidak hanya sebagai ajang silaturahmi dan refleksi atas perjalanan yang telah kita lalui sepanjang tahun 2024\, tetapi juga untuk merayakan berbagai pencapaian yang berhasil kita raih bersama sebagai keluarga besar IHGMA DPD Bali. \nEnd Year Gathering ini bukan hanya sekadar perayaan akhir tahun\, tetapi juga momen refleksi atas pencapaian kita\, serta momentum untuk memperkuat komitmen kita dalam menghadapi tahun 2025. Mari kita jadikan kesempatan ini untuk mempererat hubungan\, berbagi inspirasi\, dan merencanakan masa depan yang lebih cerah.
URL:https://ihgmabali.id/event/ihgma-end-year-gathering-2024/
LOCATION:Jimbaran Bay Beach Resort & Spa\, Jl. Pantai Kedonganan No.888\, Kedonganan\, Kec. Kuta\, Kabupaten Badung\, Bali\, 80361\, Indonesia
CATEGORIES:IHGMA Bali Internal Event
ATTACH;FMTTYPE=image/jpeg:https://ihgmabali.id/wp-content/uploads/2024/12/EYG-2024.jpeg
ORGANIZER;CN="IHGMA DPD BALI":MAILTO:info@ihgmabali.id
END:VEVENT
END:VCALENDAR