BEGIN:VCALENDAR
VERSION:2.0
PRODID:-//IHGMA Bali - ECPv6.15.13//NONSGML v1.0//EN
CALSCALE:GREGORIAN
METHOD:PUBLISH
X-WR-CALNAME:IHGMA Bali
X-ORIGINAL-URL:https://ihgmabali.id
X-WR-CALDESC:Events for IHGMA Bali
REFRESH-INTERVAL;VALUE=DURATION:PT1H
X-Robots-Tag:noindex
X-PUBLISHED-TTL:PT1H
BEGIN:VTIMEZONE
TZID:Asia/Shanghai
BEGIN:STANDARD
TZOFFSETFROM:+0800
TZOFFSETTO:+0800
TZNAME:CST
DTSTART:20240101T000000
END:STANDARD
END:VTIMEZONE
BEGIN:VEVENT
DTSTART;TZID=Asia/Shanghai:20250109T060000
DTEND;TZID=Asia/Shanghai:20250109T120000
DTSTAMP:20260422T070422
CREATED:20250313T065537Z
LAST-MODIFIED:20250317T050555Z
UID:100002846-1736402400-1736424000@ihgmabali.id
SUMMARY:IHGMA Touring Club - Charity Ride January 2025 | 9 Januari 2025
DESCRIPTION:« All Events\n 				\n				\n				\n				\n					This event has passed. \n				\n				\n				\n				\n					\n	IHGMA Touring Club – Charity Ride January 2025 | 9 Januari 2025				\n				\n				\n				\n					\n		\n			January 9\, 2025\n\n	\n\n	 @ \n\n\n6:00 am\n\n		\n\n\n\n	\n	 - \n\n12:00 pm\n\n\n\n	\n				\n				\n				\n				\n									\n					\n						\n									REGISTER NOW\n					\n					\n				\n								\n				\n				\n				\n							\n			 Days Hours Minutes Seconds		\n						\n				\n				\n				\n					Charity Ride 2025 | Collaboration with DPC Tabanan				\n				\n				\n				\n							\n							\n											\n\n												\n													\n										City of Aventus Hotel - Denpasar\, Bali\n											\n									\n						\n						\n				\n				\n				\n					\n	\n		\n\n	\n	Add to calendar	\n		\n	\n\n		\n			\n									\n	Google Calendar\n\n									\n	iCalendar\n\n									\n	Outlook 365\n\n									\n	Outlook Live\n\n							\n		\n\n		\n	\n\n				\n				\n				\n		\n				\n				\n							\n			 Days Hours Minutes Seconds		\n						\n				\n				\n				\n				\n				\n		\n		\n				\n				\n																\n															\n															\n				\n				\n		\n		\n				\n				\n					Agenda				\n				\n				\n				\n							\n			\n					\n						\n				PARTICIPANT			\n		\n					\n			\n				\n		\n				\n				\n							\n			\n					\n						\n				Event Information			\n		\n				\n						\n				Event Route			\n		\n					\n			\n				\n		\n				\n				\n							\n							\n											\n													\n										Rangkaian Acara: Touring & CSR\n									\n								\n											\n													\n										Hari/Tanggal: Minggu\, 19 January 2025\n									\n								\n											\n													\n										Titik Start: Nabe Hospitality Office Kerobokan\n									\n								\n											\n													\n										Titik Finish: Pusat Pemerintahan Kab. Badung\n									\n								\n											\n													\n										PIC Rider: Bagus Ary\n									\n								\n											\n													\n										PIC CSR: DPC Tabanan\n									\n								\n											\n													\n										Lokasi CSR: Banjar Sawah\, Desa Wanagiri\, Kecamatan Selemadeg\, Tabanan.\n									\n								\n											\n													\n										Dress Code: Baju IHGMA & Jaket IHGMA\n									\n						\n						\n				\n				\n				\n									Note :✅Ingat Jas Hujan✅Intercom full charged✅Full Bensin Commitment fee : IDR 150k/person di transfer paling lambat hari Sabtu Tanggal 18 Januari 2025 jam 14.00 ke Bank : BCANomor Rekening: 6485190141Nama : I Gede Agus Wijaya Antara Bantuan Door to door ( 10 data x 500k = IDR 5.000.000 ) Rincian terlampir.Donasi Berupa ;✳️Beras 10kg Rp 150.000✳️Telor 1 Kerat Rp. 58.000✳️Minyak 2 liter Rp. 32.000✳️Uang cash Rp 250.000🛑Total IDR 500.000Sumber Dana : Seke Satus 								\n				\n				\n				\n		\n		\n				\n				\n							\n			\n				\n					\n        \n    \n        \n                \n                    				\n					\n						\n							\n							Nabe Hospitality Office Kerobokan							\n															\n						\n						\n						\n					\n				\n								\n											\n													\n									\n								\n					\n						\n							\n							Belimbing							\n															\n						\n						\n						\n					\n				\n								\n											\n													\n									\n								\n					\n						\n							\n							Dapdap Putih							\n															\n						\n						\n						\n					\n				\n								\n											\n													\n									\n								\n					\n						\n							\n							Bedugul 							\n															\n						\n						\n						\n					\n				\n								\n											\n													\n									\n				                \n                \n                    \n                        \n                    \n                    				\n					\n						\n							  \n						\n					\n				\n								\n					\n						\n							  \n						\n					\n				\n								\n					\n						\n							  \n						\n					\n				\n								\n					\n						\n							  \n						\n					\n				\n								\n					\n						\n							  \n						\n					\n				\n								\n					\n						\n							  \n						\n					\n				\n								\n					\n						\n							  \n						\n					\n				\n								\n					\n						\n							  \n						\n					\n				\n				                \n                \n                    				\n											\n													\n									\n								\n					\n						\n							\n							Yeh Gangga							\n															\n						\n						\n						\n					\n				\n								\n											\n													\n									\n								\n					\n						\n							\n							Soka 							\n															\n						\n						\n						\n					\n				\n								\n											\n													\n									\n								\n					\n						\n							\n							Pupuan 							\n															\n						\n						\n						\n					\n				\n								\n											\n													\n									\n								\n					\n						\n							\n							Puspem Badung							\n															\n						\n						\n						\n					\n				\n				                \n\n                    \n\n    \n    \n				\n			\n		\n					\n				\n				\n				\n					\n		\n						\n				\n				\n				\n					\n		\n						\n				\n				\n				\n				\n		\n		\n		\n				\n				\n					Speakers				\n				\n				\n				\n					TO BE ANNOUNCE 				\n				\n				\n				\n					\n	\n		\n							\n					\n						\n							\n								\n															\n							\n															Speaker 1 is a visionary leader at Heineken\, where he promotes a culture of innovation and collaboration as a Sales Director in The Netherlands. \n							\n							\n								\n																			\n																					\n																		\n										Speaker 1\n										Designation\n									\n								\n							\n						\n					\n				\n							\n					\n						\n							\n								\n															\n							\n															Speaker 2 is a visionary leader at Heineken\, where he promotes a culture of innovation and collaboration as a Sales Director in The Netherlands. \n							\n							\n								\n																			\n																					\n																		\n										Speaker 2\n										Designation\n									\n								\n							\n						\n					\n				\n					\n\n		\n			\n				\n				\n				\n				\n		\n		\n				\n				\n					Organizing Committee				\n				\n				\n				\n							\n							\n										IHGMA DPC TABANAN\n									\n						\n						\n				\n				\n				\n		\n		\n				\n				\n					Supporting Partners				\n				\n				\n				\n					        \n            \n                \n					                            \n                                \n									                                    \n										                                    \n									                                \n                            \n						                            \n                                \n									                                    \n										                                    \n									                                \n                            \n						                            \n                                \n									                                    \n										                                    \n									                                \n                            \n						                            \n                                \n									                                    \n										                                    \n									                                \n                            \n						                            \n                                \n									                                    \n										                                    \n									                                \n                            \n						                \n            \n			        \n						\n				\n				\n				\n		\n		\n				\n				\n					Contact Person				\n				\n				\n				\n					Mrs. Arie Santoso				\n				\n				\n				\n							\n			Call\n						\n				\n				\n				\n							\n			\n			\n			\n\n							\n			\n			\n								\n												\n								Nama							\n														\n											\n								\n												\n								Email							\n														\n											\n								\n												\n								No. HP							\n								\n\n						\n								\n												\n								Posisi							\n														\n											\n								\n												\n								Properti/Perusahaan/Instansi							\n								\n			\n							\n			\n									Properti\n									Perusahaan\n									Instansi\n							\n		\n						\n								\n												\n								Member/Pengurus/Non Member IHGMA							\n								\n			\n							\n			\n									Member IHGMA\n									Pengurus IHGMA\n									Non Member IHGMA\n							\n		\n						\n								\n					\n						\n																						Register\n													\n					\n				\n			\n		\n						\n				\n				\n				\n		\n		\n				\n				\n					\n	\n		\n\n				IHGMA End Year Gathering 2024	\n\n\n		\n	\n		Buka Puasa Bersama IHGMA DPD Bali | 14 Maret 2025
URL:https://ihgmabali.id/event/ihgma-touring-club-charity-ride-january-2025/
CATEGORIES:IHGMA Bali Internal Event
ORGANIZER;CN="IHGMA DPD BALI":MAILTO:info@ihgmabali.id
END:VEVENT
END:VCALENDAR